BEGIN:VCALENDAR
VERSION:2.0
PRODID:-//Legends - ECPv6.15.18//NONSGML v1.0//EN
CALSCALE:GREGORIAN
METHOD:PUBLISH
X-WR-CALNAME:Legends
X-ORIGINAL-URL:https://legends.men
X-WR-CALDESC:Events for Legends
REFRESH-INTERVAL;VALUE=DURATION:PT1H
X-Robots-Tag:noindex
X-PUBLISHED-TTL:PT1H
BEGIN:VTIMEZONE
TZID:UTC
BEGIN:STANDARD
TZOFFSETFROM:+0000
TZOFFSETTO:+0000
TZNAME:UTC
DTSTART:20230101T000000
END:STANDARD
END:VTIMEZONE
BEGIN:VTIMEZONE
TZID:America/Los_Angeles
BEGIN:DAYLIGHT
TZOFFSETFROM:-0800
TZOFFSETTO:-0700
TZNAME:PDT
DTSTART:20230312T100000
END:DAYLIGHT
BEGIN:STANDARD
TZOFFSETFROM:-0700
TZOFFSETTO:-0800
TZNAME:PST
DTSTART:20231105T090000
END:STANDARD
BEGIN:DAYLIGHT
TZOFFSETFROM:-0800
TZOFFSETTO:-0700
TZNAME:PDT
DTSTART:20240310T100000
END:DAYLIGHT
BEGIN:STANDARD
TZOFFSETFROM:-0700
TZOFFSETTO:-0800
TZNAME:PST
DTSTART:20241103T090000
END:STANDARD
BEGIN:DAYLIGHT
TZOFFSETFROM:-0800
TZOFFSETTO:-0700
TZNAME:PDT
DTSTART:20250309T100000
END:DAYLIGHT
BEGIN:STANDARD
TZOFFSETFROM:-0700
TZOFFSETTO:-0800
TZNAME:PST
DTSTART:20251102T090000
END:STANDARD
END:VTIMEZONE
BEGIN:VEVENT
DTSTART;TZID=UTC:20240301T060000
DTEND;TZID=UTC:20240301T070000
DTSTAMP:20260422T001802
CREATED:20170607T025048Z
LAST-MODIFIED:20170607T025048Z
UID:2007-1709272800-1709276400@legends.men
SUMMARY:Morning Prayer
DESCRIPTION:Join us as we lift each other up in prayer\, every other Friday.
URL:https://legends.men/event/morning-prayer-2024-03-01/
LOCATION:The Portal\, 910 W. 17th St. #D\, Santa Ana\, CA\, 92706\, United States
CATEGORIES:Morning Prayer
ATTACH;FMTTYPE=image/jpeg:https://legends.men/wp-content/uploads/2017/06/pexels-photo.jpeg
ORGANIZER;CN="Legends Core Team":MAILTO:men@newsong.net
END:VEVENT
BEGIN:VEVENT
DTSTART;TZID=UTC:20240301T060000
DTEND;TZID=UTC:20240301T070000
DTSTAMP:20260422T001802
CREATED:20170607T025048Z
LAST-MODIFIED:20170607T025048Z
UID:2008-1709272800-1709276400@legends.men
SUMMARY:Morning Prayer - Santa Ana
DESCRIPTION:Join us as we lift each other up in prayer\, every other Friday.
URL:https://legends.men/event/morning-prayer-2018-07-13-2024-03-01/
LOCATION:The Portal\, 910 W. 17th St. #D\, Santa Ana\, CA\, 92706\, United States
CATEGORIES:Morning Prayer
ATTACH;FMTTYPE=image/jpeg:https://legends.men/wp-content/uploads/2017/06/DSC_5355.jpg
ORGANIZER;CN="Legends Core Team":MAILTO:men@newsong.net
END:VEVENT
BEGIN:VEVENT
DTSTART;TZID=America/Los_Angeles:20240307T060000
DTEND;TZID=America/Los_Angeles:20240307T070000
DTSTAMP:20260422T001802
CREATED:20180630T104307Z
LAST-MODIFIED:20180630T104307Z
UID:2009-1709791200-1709794800@legends.men
SUMMARY:Morning Prayer - Huntington Beach
DESCRIPTION:Join us as we lift each other up in prayer\, every other Thursday. \nEntrance is off the Parking lot facing Adams Ave. (Use Counseling Center Door)
URL:https://legends.men/event/morning-prayer-huntington-beach-2024-03-07/
LOCATION:First Christian Church\, 1207 Adams Ave\, Huntington Beach\, CA\, 92648\, United States
CATEGORIES:Morning Prayer
ATTACH;FMTTYPE=image/jpeg:https://legends.men/wp-content/uploads/2018/06/DSC_5376.jpg
ORGANIZER;CN="Mike Lew":MAILTO:mlewici@gmail.com
END:VEVENT
BEGIN:VEVENT
DTSTART;TZID=America/Los_Angeles:20240308T060000
DTEND;TZID=America/Los_Angeles:20240308T070000
DTSTAMP:20260422T001802
CREATED:20180708T200709Z
LAST-MODIFIED:20180708T200709Z
UID:2010-1709877600-1709881200@legends.men
SUMMARY:Morning Prayer - Irvine
DESCRIPTION:Join us as we lift each other up in prayer\, every other Friday.
URL:https://legends.men/event/morning-prayer-irvine-2024-03-08/
LOCATION:Panera Bread – Woodbury Town Center\, 6372 Irvine Blvd\, CA\, 92620\, United States
CATEGORIES:Morning Prayer
ATTACH;FMTTYPE=image/jpeg:https://legends.men/wp-content/uploads/2018/07/DSC_5375.jpg
ORGANIZER;CN="Legends Core Team":MAILTO:men@newsong.net
END:VEVENT
BEGIN:VEVENT
DTSTART;TZID=UTC:20240315T060000
DTEND;TZID=UTC:20240315T070000
DTSTAMP:20260422T001802
CREATED:20170607T025048Z
LAST-MODIFIED:20170607T025048Z
UID:2051-1710482400-1710486000@legends.men
SUMMARY:Morning Prayer
DESCRIPTION:Join us as we lift each other up in prayer\, every other Friday.
URL:https://legends.men/event/morning-prayer-2024-03-15/
LOCATION:The Portal\, 910 W. 17th St. #D\, Santa Ana\, CA\, 92706\, United States
CATEGORIES:Morning Prayer
ATTACH;FMTTYPE=image/jpeg:https://legends.men/wp-content/uploads/2017/06/pexels-photo.jpeg
ORGANIZER;CN="Legends Core Team":MAILTO:men@newsong.net
END:VEVENT
BEGIN:VEVENT
DTSTART;TZID=UTC:20240315T060000
DTEND;TZID=UTC:20240315T070000
DTSTAMP:20260422T001802
CREATED:20170607T025048Z
LAST-MODIFIED:20170607T025048Z
UID:2052-1710482400-1710486000@legends.men
SUMMARY:Morning Prayer - Santa Ana
DESCRIPTION:Join us as we lift each other up in prayer\, every other Friday.
URL:https://legends.men/event/morning-prayer-2018-07-13-2024-03-15/
LOCATION:The Portal\, 910 W. 17th St. #D\, Santa Ana\, CA\, 92706\, United States
CATEGORIES:Morning Prayer
ATTACH;FMTTYPE=image/jpeg:https://legends.men/wp-content/uploads/2017/06/DSC_5355.jpg
ORGANIZER;CN="Legends Core Team":MAILTO:men@newsong.net
END:VEVENT
BEGIN:VEVENT
DTSTART;TZID=America/Los_Angeles:20240321T060000
DTEND;TZID=America/Los_Angeles:20240321T070000
DTSTAMP:20260422T001802
CREATED:20180630T104307Z
LAST-MODIFIED:20180630T104307Z
UID:2094-1711000800-1711004400@legends.men
SUMMARY:Morning Prayer - Huntington Beach
DESCRIPTION:Join us as we lift each other up in prayer\, every other Thursday. \nEntrance is off the Parking lot facing Adams Ave. (Use Counseling Center Door)
URL:https://legends.men/event/morning-prayer-huntington-beach-2024-03-21/
LOCATION:First Christian Church\, 1207 Adams Ave\, Huntington Beach\, CA\, 92648\, United States
CATEGORIES:Morning Prayer
ATTACH;FMTTYPE=image/jpeg:https://legends.men/wp-content/uploads/2018/06/DSC_5376.jpg
ORGANIZER;CN="Mike Lew":MAILTO:mlewici@gmail.com
END:VEVENT
BEGIN:VEVENT
DTSTART;TZID=America/Los_Angeles:20240322T060000
DTEND;TZID=America/Los_Angeles:20240322T070000
DTSTAMP:20260422T001802
CREATED:20180708T200709Z
LAST-MODIFIED:20180708T200709Z
UID:2095-1711087200-1711090800@legends.men
SUMMARY:Morning Prayer - Irvine
DESCRIPTION:Join us as we lift each other up in prayer\, every other Friday.
URL:https://legends.men/event/morning-prayer-irvine-2024-03-22/
LOCATION:Panera Bread – Woodbury Town Center\, 6372 Irvine Blvd\, CA\, 92620\, United States
CATEGORIES:Morning Prayer
ATTACH;FMTTYPE=image/jpeg:https://legends.men/wp-content/uploads/2018/07/DSC_5375.jpg
ORGANIZER;CN="Legends Core Team":MAILTO:men@newsong.net
END:VEVENT
BEGIN:VEVENT
DTSTART;TZID=UTC:20240329T060000
DTEND;TZID=UTC:20240329T070000
DTSTAMP:20260422T001802
CREATED:20170607T025048Z
LAST-MODIFIED:20170607T025048Z
UID:2135-1711692000-1711695600@legends.men
SUMMARY:Morning Prayer
DESCRIPTION:Join us as we lift each other up in prayer\, every other Friday.
URL:https://legends.men/event/morning-prayer-2024-03-29/
LOCATION:The Portal\, 910 W. 17th St. #D\, Santa Ana\, CA\, 92706\, United States
CATEGORIES:Morning Prayer
ATTACH;FMTTYPE=image/jpeg:https://legends.men/wp-content/uploads/2017/06/pexels-photo.jpeg
ORGANIZER;CN="Legends Core Team":MAILTO:men@newsong.net
END:VEVENT
BEGIN:VEVENT
DTSTART;TZID=UTC:20240329T060000
DTEND;TZID=UTC:20240329T070000
DTSTAMP:20260422T001802
CREATED:20170607T025048Z
LAST-MODIFIED:20170607T025048Z
UID:2136-1711692000-1711695600@legends.men
SUMMARY:Morning Prayer - Santa Ana
DESCRIPTION:Join us as we lift each other up in prayer\, every other Friday.
URL:https://legends.men/event/morning-prayer-2018-07-13-2024-03-29/
LOCATION:The Portal\, 910 W. 17th St. #D\, Santa Ana\, CA\, 92706\, United States
CATEGORIES:Morning Prayer
ATTACH;FMTTYPE=image/jpeg:https://legends.men/wp-content/uploads/2017/06/DSC_5355.jpg
ORGANIZER;CN="Legends Core Team":MAILTO:men@newsong.net
END:VEVENT
END:VCALENDAR