BEGIN:VCALENDAR
VERSION:2.0
PRODID:-//Legends - ECPv6.15.18//NONSGML v1.0//EN
CALSCALE:GREGORIAN
METHOD:PUBLISH
X-ORIGINAL-URL:https://legends.men
X-WR-CALDESC:Events for Legends
REFRESH-INTERVAL;VALUE=DURATION:PT1H
X-Robots-Tag:noindex
X-PUBLISHED-TTL:PT1H
BEGIN:VTIMEZONE
TZID:America/Los_Angeles
BEGIN:DAYLIGHT
TZOFFSETFROM:-0800
TZOFFSETTO:-0700
TZNAME:PDT
DTSTART:20230312T100000
END:DAYLIGHT
BEGIN:STANDARD
TZOFFSETFROM:-0700
TZOFFSETTO:-0800
TZNAME:PST
DTSTART:20231105T090000
END:STANDARD
BEGIN:DAYLIGHT
TZOFFSETFROM:-0800
TZOFFSETTO:-0700
TZNAME:PDT
DTSTART:20240310T100000
END:DAYLIGHT
BEGIN:STANDARD
TZOFFSETFROM:-0700
TZOFFSETTO:-0800
TZNAME:PST
DTSTART:20241103T090000
END:STANDARD
BEGIN:DAYLIGHT
TZOFFSETFROM:-0800
TZOFFSETTO:-0700
TZNAME:PDT
DTSTART:20250309T100000
END:DAYLIGHT
BEGIN:STANDARD
TZOFFSETFROM:-0700
TZOFFSETTO:-0800
TZNAME:PST
DTSTART:20251102T090000
END:STANDARD
END:VTIMEZONE
BEGIN:VEVENT
DTSTART;TZID=America/Los_Angeles:20241101T060000
DTEND;TZID=America/Los_Angeles:20241101T070000
DTSTAMP:20260421T100920
CREATED:20180708T200709Z
LAST-MODIFIED:20180708T200709Z
UID:3948-1730440800-1730444400@legends.men
SUMMARY:Morning Prayer - Irvine
DESCRIPTION:Join us as we lift each other up in prayer\, every other Friday.
URL:https://legends.men/event/morning-prayer-irvine-2024-11-01/
LOCATION:Panera Bread – Woodbury Town Center\, 6372 Irvine Blvd\, CA\, 92620\, United States
CATEGORIES:Morning Prayer
ATTACH;FMTTYPE=image/jpeg:https://legends.men/wp-content/uploads/2018/07/DSC_5375.jpg
ORGANIZER;CN="Legends Core Team":MAILTO:men@newsong.net
END:VEVENT
BEGIN:VEVENT
DTSTART;TZID=America/Los_Angeles:20241115T060000
DTEND;TZID=America/Los_Angeles:20241115T070000
DTSTAMP:20260421T100920
CREATED:20180708T200709Z
LAST-MODIFIED:20180708T200709Z
UID:4069-1731650400-1731654000@legends.men
SUMMARY:Morning Prayer - Irvine
DESCRIPTION:Join us as we lift each other up in prayer\, every other Friday.
URL:https://legends.men/event/morning-prayer-irvine-2024-11-15/
LOCATION:Panera Bread – Woodbury Town Center\, 6372 Irvine Blvd\, CA\, 92620\, United States
CATEGORIES:Morning Prayer
ATTACH;FMTTYPE=image/jpeg:https://legends.men/wp-content/uploads/2018/07/DSC_5375.jpg
ORGANIZER;CN="Legends Core Team":MAILTO:men@newsong.net
END:VEVENT
BEGIN:VEVENT
DTSTART;TZID=America/Los_Angeles:20241129T060000
DTEND;TZID=America/Los_Angeles:20241129T070000
DTSTAMP:20260421T100920
CREATED:20180708T200709Z
LAST-MODIFIED:20180708T200709Z
UID:4159-1732860000-1732863600@legends.men
SUMMARY:Morning Prayer - Irvine
DESCRIPTION:Join us as we lift each other up in prayer\, every other Friday.
URL:https://legends.men/event/morning-prayer-irvine-2024-11-29/
LOCATION:Panera Bread – Woodbury Town Center\, 6372 Irvine Blvd\, CA\, 92620\, United States
CATEGORIES:Morning Prayer
ATTACH;FMTTYPE=image/jpeg:https://legends.men/wp-content/uploads/2018/07/DSC_5375.jpg
ORGANIZER;CN="Legends Core Team":MAILTO:men@newsong.net
END:VEVENT
END:VCALENDAR