BEGIN:VCALENDAR
VERSION:2.0
PRODID:-//Legends - ECPv6.15.18//NONSGML v1.0//EN
CALSCALE:GREGORIAN
METHOD:PUBLISH
X-WR-CALNAME:Legends
X-ORIGINAL-URL:https://legends.men
X-WR-CALDESC:Events for Legends
REFRESH-INTERVAL;VALUE=DURATION:PT1H
X-Robots-Tag:noindex
X-PUBLISHED-TTL:PT1H
BEGIN:VTIMEZONE
TZID:America/Los_Angeles
BEGIN:DAYLIGHT
TZOFFSETFROM:-0800
TZOFFSETTO:-0700
TZNAME:PDT
DTSTART:20230312T100000
END:DAYLIGHT
BEGIN:STANDARD
TZOFFSETFROM:-0700
TZOFFSETTO:-0800
TZNAME:PST
DTSTART:20231105T090000
END:STANDARD
BEGIN:DAYLIGHT
TZOFFSETFROM:-0800
TZOFFSETTO:-0700
TZNAME:PDT
DTSTART:20240310T100000
END:DAYLIGHT
BEGIN:STANDARD
TZOFFSETFROM:-0700
TZOFFSETTO:-0800
TZNAME:PST
DTSTART:20241103T090000
END:STANDARD
BEGIN:DAYLIGHT
TZOFFSETFROM:-0800
TZOFFSETTO:-0700
TZNAME:PDT
DTSTART:20250309T100000
END:DAYLIGHT
BEGIN:STANDARD
TZOFFSETFROM:-0700
TZOFFSETTO:-0800
TZNAME:PST
DTSTART:20251102T090000
END:STANDARD
END:VTIMEZONE
BEGIN:VTIMEZONE
TZID:UTC
BEGIN:STANDARD
TZOFFSETFROM:+0000
TZOFFSETTO:+0000
TZNAME:UTC
DTSTART:20230101T000000
END:STANDARD
END:VTIMEZONE
BEGIN:VEVENT
DTSTART;TZID=America/Los_Angeles:20240502T060000
DTEND;TZID=America/Los_Angeles:20240502T070000
DTSTAMP:20260421T183016
CREATED:20180630T104307Z
LAST-MODIFIED:20180630T104307Z
UID:2425-1714629600-1714633200@legends.men
SUMMARY:Morning Prayer - Huntington Beach
DESCRIPTION:Join us as we lift each other up in prayer\, every other Thursday. \nEntrance is off the Parking lot facing Adams Ave. (Use Counseling Center Door)
URL:https://legends.men/event/morning-prayer-huntington-beach-2024-05-02/
LOCATION:First Christian Church\, 1207 Adams Ave\, Huntington Beach\, CA\, 92648\, United States
CATEGORIES:Morning Prayer
ATTACH;FMTTYPE=image/jpeg:https://legends.men/wp-content/uploads/2018/06/DSC_5376.jpg
ORGANIZER;CN="Mike Lew":MAILTO:mlewici@gmail.com
END:VEVENT
BEGIN:VEVENT
DTSTART;TZID=America/Los_Angeles:20240503T060000
DTEND;TZID=America/Los_Angeles:20240503T070000
DTSTAMP:20260421T183016
CREATED:20180708T200709Z
LAST-MODIFIED:20180708T200709Z
UID:2432-1714716000-1714719600@legends.men
SUMMARY:Morning Prayer - Irvine
DESCRIPTION:Join us as we lift each other up in prayer\, every other Friday.
URL:https://legends.men/event/morning-prayer-irvine-2024-05-03/
LOCATION:Panera Bread – Woodbury Town Center\, 6372 Irvine Blvd\, CA\, 92620\, United States
CATEGORIES:Morning Prayer
ATTACH;FMTTYPE=image/jpeg:https://legends.men/wp-content/uploads/2018/07/DSC_5375.jpg
ORGANIZER;CN="Legends Core Team":MAILTO:men@newsong.net
END:VEVENT
BEGIN:VEVENT
DTSTART;TZID=UTC:20240510T060000
DTEND;TZID=UTC:20240510T070000
DTSTAMP:20260421T183016
CREATED:20170607T025048Z
LAST-MODIFIED:20170607T025048Z
UID:2481-1715320800-1715324400@legends.men
SUMMARY:Morning Prayer
DESCRIPTION:Join us as we lift each other up in prayer\, every other Friday.
URL:https://legends.men/event/morning-prayer-2024-05-10/
LOCATION:The Portal\, 910 W. 17th St. #D\, Santa Ana\, CA\, 92706\, United States
CATEGORIES:Morning Prayer
ATTACH;FMTTYPE=image/jpeg:https://legends.men/wp-content/uploads/2017/06/pexels-photo.jpeg
ORGANIZER;CN="Legends Core Team":MAILTO:men@newsong.net
END:VEVENT
BEGIN:VEVENT
DTSTART;TZID=UTC:20240510T060000
DTEND;TZID=UTC:20240510T070000
DTSTAMP:20260421T183016
CREATED:20170607T025048Z
LAST-MODIFIED:20170607T025048Z
UID:2482-1715320800-1715324400@legends.men
SUMMARY:Morning Prayer - Santa Ana
DESCRIPTION:Join us as we lift each other up in prayer\, every other Friday.
URL:https://legends.men/event/morning-prayer-2018-07-13-2024-05-10/
LOCATION:The Portal\, 910 W. 17th St. #D\, Santa Ana\, CA\, 92706\, United States
CATEGORIES:Morning Prayer
ATTACH;FMTTYPE=image/jpeg:https://legends.men/wp-content/uploads/2017/06/DSC_5355.jpg
ORGANIZER;CN="Legends Core Team":MAILTO:men@newsong.net
END:VEVENT
BEGIN:VEVENT
DTSTART;TZID=America/Los_Angeles:20240516T060000
DTEND;TZID=America/Los_Angeles:20240516T070000
DTSTAMP:20260421T183016
CREATED:20180630T104307Z
LAST-MODIFIED:20180630T104307Z
UID:2521-1715839200-1715842800@legends.men
SUMMARY:Morning Prayer - Huntington Beach
DESCRIPTION:Join us as we lift each other up in prayer\, every other Thursday. \nEntrance is off the Parking lot facing Adams Ave. (Use Counseling Center Door)
URL:https://legends.men/event/morning-prayer-huntington-beach-2024-05-16/
LOCATION:First Christian Church\, 1207 Adams Ave\, Huntington Beach\, CA\, 92648\, United States
CATEGORIES:Morning Prayer
ATTACH;FMTTYPE=image/jpeg:https://legends.men/wp-content/uploads/2018/06/DSC_5376.jpg
ORGANIZER;CN="Mike Lew":MAILTO:mlewici@gmail.com
END:VEVENT
BEGIN:VEVENT
DTSTART;TZID=America/Los_Angeles:20240517T060000
DTEND;TZID=America/Los_Angeles:20240517T070000
DTSTAMP:20260421T183016
CREATED:20180708T200709Z
LAST-MODIFIED:20180708T200709Z
UID:2530-1715925600-1715929200@legends.men
SUMMARY:Morning Prayer - Irvine
DESCRIPTION:Join us as we lift each other up in prayer\, every other Friday.
URL:https://legends.men/event/morning-prayer-irvine-2024-05-17/
LOCATION:Panera Bread – Woodbury Town Center\, 6372 Irvine Blvd\, CA\, 92620\, United States
CATEGORIES:Morning Prayer
ATTACH;FMTTYPE=image/jpeg:https://legends.men/wp-content/uploads/2018/07/DSC_5375.jpg
ORGANIZER;CN="Legends Core Team":MAILTO:men@newsong.net
END:VEVENT
BEGIN:VEVENT
DTSTART;TZID=UTC:20240524T060000
DTEND;TZID=UTC:20240524T070000
DTSTAMP:20260421T183016
CREATED:20170607T025048Z
LAST-MODIFIED:20170607T025048Z
UID:2575-1716530400-1716534000@legends.men
SUMMARY:Morning Prayer - Santa Ana
DESCRIPTION:Join us as we lift each other up in prayer\, every other Friday.
URL:https://legends.men/event/morning-prayer-2018-07-13-2024-05-24/
LOCATION:The Portal\, 910 W. 17th St. #D\, Santa Ana\, CA\, 92706\, United States
CATEGORIES:Morning Prayer
ATTACH;FMTTYPE=image/jpeg:https://legends.men/wp-content/uploads/2017/06/DSC_5355.jpg
ORGANIZER;CN="Legends Core Team":MAILTO:men@newsong.net
END:VEVENT
BEGIN:VEVENT
DTSTART;TZID=UTC:20240524T060000
DTEND;TZID=UTC:20240524T070000
DTSTAMP:20260421T183016
CREATED:20170607T025048Z
LAST-MODIFIED:20170607T025048Z
UID:2574-1716530400-1716534000@legends.men
SUMMARY:Morning Prayer
DESCRIPTION:Join us as we lift each other up in prayer\, every other Friday.
URL:https://legends.men/event/morning-prayer-2024-05-24/
LOCATION:The Portal\, 910 W. 17th St. #D\, Santa Ana\, CA\, 92706\, United States
CATEGORIES:Morning Prayer
ATTACH;FMTTYPE=image/jpeg:https://legends.men/wp-content/uploads/2017/06/pexels-photo.jpeg
ORGANIZER;CN="Legends Core Team":MAILTO:men@newsong.net
END:VEVENT
BEGIN:VEVENT
DTSTART;TZID=America/Los_Angeles:20240530T060000
DTEND;TZID=America/Los_Angeles:20240530T070000
DTSTAMP:20260421T183016
CREATED:20180630T104307Z
LAST-MODIFIED:20180630T104307Z
UID:2624-1717048800-1717052400@legends.men
SUMMARY:Morning Prayer - Huntington Beach
DESCRIPTION:Join us as we lift each other up in prayer\, every other Thursday. \nEntrance is off the Parking lot facing Adams Ave. (Use Counseling Center Door)
URL:https://legends.men/event/morning-prayer-huntington-beach-2024-05-30/
LOCATION:First Christian Church\, 1207 Adams Ave\, Huntington Beach\, CA\, 92648\, United States
CATEGORIES:Morning Prayer
ATTACH;FMTTYPE=image/jpeg:https://legends.men/wp-content/uploads/2018/06/DSC_5376.jpg
ORGANIZER;CN="Mike Lew":MAILTO:mlewici@gmail.com
END:VEVENT
BEGIN:VEVENT
DTSTART;TZID=America/Los_Angeles:20240531T060000
DTEND;TZID=America/Los_Angeles:20240531T070000
DTSTAMP:20260421T183016
CREATED:20180708T200709Z
LAST-MODIFIED:20180708T200709Z
UID:2666-1717135200-1717138800@legends.men
SUMMARY:Morning Prayer - Irvine
DESCRIPTION:Join us as we lift each other up in prayer\, every other Friday.
URL:https://legends.men/event/morning-prayer-irvine-2024-05-31/
LOCATION:Panera Bread – Woodbury Town Center\, 6372 Irvine Blvd\, CA\, 92620\, United States
CATEGORIES:Morning Prayer
ATTACH;FMTTYPE=image/jpeg:https://legends.men/wp-content/uploads/2018/07/DSC_5375.jpg
ORGANIZER;CN="Legends Core Team":MAILTO:men@newsong.net
END:VEVENT
END:VCALENDAR